BEGIN:VCALENDAR
VERSION:2.0
PRODID:-//ACS ENVR - ECPv6.15.20//NONSGML v1.0//EN
CALSCALE:GREGORIAN
METHOD:PUBLISH
X-ORIGINAL-URL:https://acsenvr.com
X-WR-CALDESC:Events for ACS ENVR
REFRESH-INTERVAL;VALUE=DURATION:PT1H
X-Robots-Tag:noindex
X-PUBLISHED-TTL:PT1H
BEGIN:VTIMEZONE
TZID:UTC
BEGIN:STANDARD
TZOFFSETFROM:+0000
TZOFFSETTO:+0000
TZNAME:UTC
DTSTART:20240101T000000
END:STANDARD
END:VTIMEZONE
BEGIN:VEVENT
DTSTART;TZID=UTC:20250323T000000
DTEND;TZID=UTC:20250327T235959
DTSTAMP:20260425T153558
CREATED:20241227T215357Z
LAST-MODIFIED:20250607T160411Z
UID:191-1742688000-1743119999@acsenvr.com
SUMMARY:2025 Spring ACS National Meeting
DESCRIPTION:ENVR Program Summary (Sessions)\n \nSan Diego\, California & Virtual\n \n*Late-Breaking Topic Session: Beneath the Flames: A Chemical Perspective on the LA County Fires. Mon. March 24\, 2:30-3:20 PM. Exhibit Hall De-E\, Expo Theater 2. \nCall for Papers \nSubmit An Abstract Abstracts are Due September 30th\, 2024 \nCall for Symposium Proposals \nTravel Awards for Joint Symposium on “Food Security”
URL:https://acsenvr.com/event/2025-spring-acs-national-meeting/
LOCATION:CA
CATEGORIES:ACS National Meetings
ATTACH;FMTTYPE=image/jpeg:https://acsenvr.com/wp-content/uploads/2024/12/acs-spring-2025.jpg
END:VEVENT
END:VCALENDAR