BEGIN:VCALENDAR
VERSION:2.0
PRODID:-//ACS ENVR - ECPv6.15.20//NONSGML v1.0//EN
CALSCALE:GREGORIAN
METHOD:PUBLISH
X-WR-CALNAME:ACS ENVR
X-ORIGINAL-URL:https://acsenvr.com
X-WR-CALDESC:Events for ACS ENVR
REFRESH-INTERVAL;VALUE=DURATION:PT1H
X-Robots-Tag:noindex
X-PUBLISHED-TTL:PT1H
BEGIN:VTIMEZONE
TZID:UTC
BEGIN:STANDARD
TZOFFSETFROM:+0000
TZOFFSETTO:+0000
TZNAME:UTC
DTSTART:20240101T000000
END:STANDARD
END:VTIMEZONE
BEGIN:VEVENT
DTSTART;TZID=UTC:20250817T000000
DTEND;TZID=UTC:20250821T235959
DTSTAMP:20260424T051222
CREATED:20250105T142750Z
LAST-MODIFIED:20250814T163300Z
UID:1125-1755388800-1755820799@acsenvr.com
SUMMARY:2025 Fall ACS National Meeting
DESCRIPTION:Program Snapshot \nENVR Program Summary Fall 2025 \nENVR Social \nCall for Papers \nSubmit An Abstract Abstracts are Due March 31st\, 2025. \nCall for Symposium Proposals (Closes Nov 29\, 2024)
URL:https://acsenvr.com/event/2025-fall-acs-national-meeting-dates-tba/
LOCATION:Washington\, Washington\, DC\, United States
CATEGORIES:ACS National Meetings
ATTACH;FMTTYPE=image/webp:https://acsenvr.com/wp-content/uploads/2025/01/acs-fall-2025-im-attending-rectangle.webp
END:VEVENT
END:VCALENDAR