BEGIN:VCALENDAR
VERSION:2.0
PRODID:-//ACS ENVR - ECPv6.15.20//NONSGML v1.0//EN
CALSCALE:GREGORIAN
METHOD:PUBLISH
X-WR-CALNAME:ACS ENVR
X-ORIGINAL-URL:https://acsenvr.com
X-WR-CALDESC:Events for ACS ENVR
REFRESH-INTERVAL;VALUE=DURATION:PT1H
X-Robots-Tag:noindex
X-PUBLISHED-TTL:PT1H
BEGIN:VTIMEZONE
TZID:UTC
BEGIN:STANDARD
TZOFFSETFROM:+0000
TZOFFSETTO:+0000
TZNAME:UTC
DTSTART:20250101T000000
END:STANDARD
END:VTIMEZONE
BEGIN:VEVENT
DTSTART;TZID=UTC:20260823T000000
DTEND;TZID=UTC:20260827T235959
DTSTAMP:20260423T145314
CREATED:20250505T225434Z
LAST-MODIFIED:20260119T175203Z
UID:8796-1787443200-1787875199@acsenvr.com
SUMMARY:2026 Fall ACS National Meeting
DESCRIPTION:Share your recent research and results with the Division of Environmental Chemistry at ACS Fall 2026.\nJoin us in Chicago\, IL or virtually. \nCall for Papers\nAbstract Submission Open: January 5\, 2026\nAbstract Submission Deadline: March 30\, 2026
URL:https://acsenvr.com/event/2026-fall-acs-national-meeting/
LOCATION:chicago\, Chicago\, IL\, United States
CATEGORIES:ACS National Meetings
END:VEVENT
BEGIN:VEVENT
DTSTART;TZID=UTC:20270321T000000
DTEND;TZID=UTC:20270325T235959
DTSTAMP:20260423T145314
CREATED:20250505T230714Z
LAST-MODIFIED:20250523T021341Z
UID:8805-1805587200-1806019199@acsenvr.com
SUMMARY:2027 Spring ACS National Meeting
DESCRIPTION:
URL:https://acsenvr.com/event/2027-spring-acs-national-meeting/
LOCATION:new orleans\, New Orleans\, LA\, United States
CATEGORIES:ACS National Meetings
END:VEVENT
BEGIN:VEVENT
DTSTART;TZID=UTC:20270822T000000
DTEND;TZID=UTC:20270826T235959
DTSTAMP:20260423T145314
CREATED:20250505T233928Z
LAST-MODIFIED:20250523T021415Z
UID:8824-1818892800-1819324799@acsenvr.com
SUMMARY:2027 Fall ACS National Meeting
DESCRIPTION:
URL:https://acsenvr.com/event/2027-fall-acs-national-meeting/
LOCATION:San Diego\, San Diego\, CA\, United States
CATEGORIES:ACS National Meetings
END:VEVENT
END:VCALENDAR